BEGIN:VCALENDAR
VERSION:2.0
PRODID:-//Schillerschule Herne - ECPv6.15.20//NONSGML v1.0//EN
CALSCALE:GREGORIAN
METHOD:PUBLISH
X-ORIGINAL-URL:https://schillerschule-herne.de
X-WR-CALDESC:Veranstaltungen für Schillerschule Herne
REFRESH-INTERVAL;VALUE=DURATION:PT1H
X-Robots-Tag:noindex
X-PUBLISHED-TTL:PT1H
BEGIN:VTIMEZONE
TZID:Europe/Berlin
BEGIN:DAYLIGHT
TZOFFSETFROM:+0100
TZOFFSETTO:+0200
TZNAME:CEST
DTSTART:20220327T010000
END:DAYLIGHT
BEGIN:STANDARD
TZOFFSETFROM:+0200
TZOFFSETTO:+0100
TZNAME:CET
DTSTART:20221030T010000
END:STANDARD
BEGIN:DAYLIGHT
TZOFFSETFROM:+0100
TZOFFSETTO:+0200
TZNAME:CEST
DTSTART:20230326T010000
END:DAYLIGHT
BEGIN:STANDARD
TZOFFSETFROM:+0200
TZOFFSETTO:+0100
TZNAME:CET
DTSTART:20231029T010000
END:STANDARD
BEGIN:DAYLIGHT
TZOFFSETFROM:+0100
TZOFFSETTO:+0200
TZNAME:CEST
DTSTART:20240331T010000
END:DAYLIGHT
BEGIN:STANDARD
TZOFFSETFROM:+0200
TZOFFSETTO:+0100
TZNAME:CET
DTSTART:20241027T010000
END:STANDARD
END:VTIMEZONE
BEGIN:VEVENT
DTSTART;TZID=Europe/Berlin:20230109T080000
DTEND;TZID=Europe/Berlin:20230109T170000
DTSTAMP:20260424T202901
CREATED:20200105T095921Z
LAST-MODIFIED:20220811T151709Z
UID:26783-1673251200-1673283600@schillerschule-herne.de
SUMMARY:1. Schultag 2023
DESCRIPTION:Wir wünschen allen Schülern und Eltern ein \nfrohes neues Jahr und einen guten Start in das Jahr 2023. \nDer Unterricht beginnt wieder am 9.1. 2023 um 8.00 Uhr. \n  \nIhr Schillerteam
URL:https://schillerschule-herne.de/event/1-schultag-2020/
END:VEVENT
END:VCALENDAR